BEGIN:VCALENDAR
VERSION:2.0
PRODID:-//ChamberMaster//Event Calendar 2.0//EN
METHOD:PUBLISH
X-PUBLISHED-TTL:P3D
REFRESH-INTERVAL:P3D
CALSCALE:GREGORIAN
BEGIN:VEVENT
DTSTART:20181212T230000Z
DTEND:20181213T010000Z
X-MICROSOFT-CDO-ALLDAYEVENT:FALSE
SUMMARY:John Benedeck at Raue Center Café
DESCRIPTION:John Benedeck at Raue Center Caf  DEC 12 @ 5-7p FREE ADMISSION! Fresh off his CHILL performance at the Merchandise Mart\, John Benedeck plays songs of the season while you enjoy a beverage of your choice from the Raue Caf . Raue Center hosts some of the best local talents around in its cafe space on Wednesdays & Thursdays from 5-7p. Admission is FREE! Dedicated to realizing its mission of "Arts for All\," Raue Center is proud to host local talent free of charge to the community. Artists are welcome to hone their skills. Interested in performing? Contact Program Manager\, Kayti Sault at ksault@rauecenter.org.
X-ALT-DESC;FMTTYPE=text/html:John Benedeck at Raue Center Caf&eacute\; DEC 12 @ 5-7p FREE ADMISSION! Fresh off his CHILL performance at the Merchandise Mart\, John Benedeck plays songs of the season while you enjoy a beverage of your choice from the Raue Caf&eacute\;. Raue Center hosts some of the best local talents around in its cafe space on Wednesdays &amp\; Thursdays from 5-7p. Admission is FREE! Dedicated to realizing its mission of &quot\;Arts for All\,&quot\; Raue Center is proud to host local talent free of charge to the community. Artists are welcome to hone their skills. Interested in performing? Contact Program Manager\, Kayti Sault at ksault@rauecenter.org.
LOCATION:Raue Center For The Arts 26 N. Williams Street Crystal Lake\, IL 60014
UID:e.138.9467
SEQUENCE:3
DTSTAMP:20260420T004258Z
URL:https://carygrovechamber-gz26-gzcms.preview.gochambermaster.com/events/details/john-benedeck-at-raue-center-caf&#233;-9467
END:VEVENT

END:VCALENDAR
