BEGIN:VCALENDAR
VERSION:2.0
PRODID:-//ChamberMaster//Event Calendar 2.0//EN
METHOD:PUBLISH
X-PUBLISHED-TTL:P3D
REFRESH-INTERVAL:P3D
CALSCALE:GREGORIAN
BEGIN:VEVENT
DTSTART:20130719T170000Z
DTEND:20130719T220000Z
X-MICROSOFT-CDO-ALLDAYEVENT:FALSE
SUMMARY:Luau Day at the Pool
DESCRIPTION:Enjoy an afternoon at the pool luau style! Shaved ice\, contests\, and a live band will fill the afternoon. Admission is half-price today.
X-ALT-DESC;FMTTYPE=text/html:<p class="MsoNormal" style="margin: 0in 0in 10pt\;">\n	<font color="#000000" face="Calibri" size="3">Enjoy an afternoon at the pool luau style! Shaved ice\, contests\, and a live band will fill the afternoon. Admission is half-price today. </font></p>\n
LOCATION:Community Center 255 Briargate Road\, Cary
UID:e.138.3780
SEQUENCE:3
DTSTAMP:20260426T000248Z
URL:https://carygrovechamber-gz26-gzcms.preview.gochambermaster.com/events/details/luau-day-at-the-pool-07-19-2013-3780
END:VEVENT

END:VCALENDAR
