BEGIN:VCALENDAR
VERSION:2.0
PRODID:-//ChamberMaster//Event Calendar 2.0//EN
METHOD:PUBLISH
X-PUBLISHED-TTL:P3D
REFRESH-INTERVAL:P3D
CALSCALE:GREGORIAN
BEGIN:VEVENT
DTSTART:20150418T203000Z
DTEND:20150418T213000Z
X-MICROSOFT-CDO-ALLDAYEVENT:FALSE
SUMMARY:Make a Great First Impression: Curb Appeal at The Barn Nursery & Landscape Center
DESCRIPTION:Your landscape sets the first impression for neighbors and guests. Mary will offer quick and easy solutions for updating your curb appeal and encourages you to bring pics\, projects and questions to be incorporated into the discussion.
X-ALT-DESC;FMTTYPE=text/html:Your landscape sets the first impression for neighbors and guests. Mary will offer quick and easy solutions for updating your curb appeal and encourages you to bring pics\, projects and questions to be incorporated into the discussion.
LOCATION:The Barn Nursery & Landscape Center 8109 S Route 31\, Cary\, IL 60013
UID:e.138.5449
SEQUENCE:3
DTSTAMP:20260424T024325Z
URL:https://carygrovechamber-gz26-gzcms.preview.gochambermaster.com/events/details/make-a-great-first-impression-curb-appeal-at-the-barn-nursery-landscape-center-04-18-2015-5449
END:VEVENT

END:VCALENDAR
