BEGIN:VCALENDAR
VERSION:2.0
PRODID:-//ChamberMaster//Event Calendar 2.0//EN
METHOD:PUBLISH
X-PUBLISHED-TTL:P3D
REFRESH-INTERVAL:P3D
CALSCALE:GREGORIAN
BEGIN:VEVENT
DTSTART:20150402T000000Z
DTEND:20150402T010000Z
X-MICROSOFT-CDO-ALLDAYEVENT:FALSE
SUMMARY:Master Gardeners' Clinic
DESCRIPTION:Join us for a Q & A session with master gardeners from the University of Illinois Extension program. Learn tips to save money on your lawn and garden this spring. Be the envy of your neighborhood when you get your garden off to a gorgeous start! Registration is required.
X-ALT-DESC;FMTTYPE=text/html:Join us for a Q &amp\; A session with master gardeners from the University of Illinois Extension program. Learn tips to save money on your lawn and garden this spring. Be the envy of your neighborhood when you get your garden off to a gorgeous start! Registration is required.
LOCATION:Fox River Grove Memorial Library
UID:e.138.5428
SEQUENCE:3
DTSTAMP:20260424T024329Z
URL:https://carygrovechamber-gz26-gzcms.preview.gochambermaster.com/events/details/master-gardeners-clinic-04-01-2015-5428
END:VEVENT

END:VCALENDAR
