BEGIN:VCALENDAR
VERSION:2.0
PRODID:-//ChamberMaster//Event Calendar 2.0//EN
METHOD:PUBLISH
X-PUBLISHED-TTL:P3D
REFRESH-INTERVAL:P3D
CALSCALE:GREGORIAN
BEGIN:VEVENT
DTSTART:20130621T230000Z
DTEND:20130622T030000Z
X-MICROSOFT-CDO-ALLDAYEVENT:FALSE
SUMMARY:Moonlight & Music
DESCRIPTION:Moonlight & Music\n\n\n\nFriday\, June 21\, 2013\n\nEvent starts at 6pm\n\n\n\nCrystal Lake Country Club\n\n721 Country Club Rd\; Crystal Lake\, IL 60014\n\n\n\nCost $125\n\n\n\nMoon & Music is Pioneer Center's premier fundraiser. Last Year it was called the "social event of the season." It is an outdoor event that wows with mouth-watering gourmet food\, choice beverages and sensational music.\n\n\n\nA "Ravinia-like" open-air concert\, that features the music of Carib  Latin Jazz Orchestra with sounds of Santana\, as well as the jazzy sounds of Brazil.\n\n\n\nProceeds from the event benefit Pioneer Center for Human Services\, which provides services in youth and adult behavioral health\, homeless services\, developmental disability services\, and sexual assault services.\n\n\n\nFor additional info or to order tickets go to www.pioneercenter.org or contact Barbra Swanson @ 815-759-7144 bswanson@pioneercenter.org
X-ALT-DESC;FMTTYPE=text/html:<span style="font-size: 18px\;"><strong>Moonlight &amp\; Music</strong></span><br />\n<br />\nFriday\, June 21\, 2013<br />\nEvent starts at 6pm<br />\n<br />\nCrystal Lake Country Club<br />\n721 Country Club Rd\; Crystal Lake\, IL 60014<br />\n<br />\n<strong>Cost $125<br />\n<br />\nMoon &amp\; Music </strong>is <span style="color: rgb(0\, 0\, 255)\;">Pioneer Center</span>&rsquo\;s premier fundraiser. Last Year it was called the &ldquo\;social event of the season.&rdquo\; It is an outdoor event that wows with mouth-watering gourmet food\, choice beverages and sensational music.<br />\n<br />\nA &ldquo\;Ravinia-like&rdquo\; open-air concert\, that features the music of Carib&eacute\; Latin Jazz Orchestra with sounds of Santana\, as well as the jazzy sounds of Brazil.<br />\n<br />\nProceeds from the event benefit Pioneer Center for Human Services\, which provides services in youth and adult behavioral health\, homeless services\, developmental disability services\, and sexual assault services.<br />\n<br />\nFor additional info or to order tickets go to <strong><u><span style="color: rgb(128\, 0\, 128)\;">www.pioneercenter.org </span></u></strong>or contact <strong>Barbra Swanson </strong>@ <strong>815-759-7144</strong> <strong><span style="color: rgb(0\, 0\, 255)\;"><u>bswanson@pioneercenter.org </u></span></strong>
LOCATION:Crystal Lake Country Club 721 Country Club Rd\; Crystal Lake\, IL 60014
UID:e.138.3700
SEQUENCE:3
DTSTAMP:20260426T012027Z
URL:https://carygrovechamber-gz26-gzcms.preview.gochambermaster.com/events/details/moonlight-music-06-21-2013-3700
END:VEVENT

END:VCALENDAR
