BEGIN:VCALENDAR
VERSION:2.0
PRODID:-//ChamberMaster//Event Calendar 2.0//EN
METHOD:PUBLISH
X-PUBLISHED-TTL:P3D
REFRESH-INTERVAL:P3D
CALSCALE:GREGORIAN
BEGIN:VEVENT
DTSTART:20130918T170000Z
DTEND:20130918T180000Z
X-MICROSOFT-CDO-ALLDAYEVENT:FALSE
SUMMARY:Noon Shake Up Lunch Mixer
DESCRIPTION:Noon Shake Up Lunch Mixer
X-ALT-DESC;FMTTYPE=text/html:Noon Shake Up Lunch Mixer
LOCATION:TBA
UID:e.138.3715
SEQUENCE:3
DTSTAMP:20260425T211935Z
URL:https://carygrovechamber-gz26-gzcms.preview.gochambermaster.com/events/details/noon-shake-up-lunch-mixer-09-18-2013-3715
END:VEVENT

END:VCALENDAR
