BEGIN:VCALENDAR
VERSION:2.0
PRODID:-//ChamberMaster//Event Calendar 2.0//EN
METHOD:PUBLISH
X-PUBLISHED-TTL:P3D
REFRESH-INTERVAL:P3D
CALSCALE:GREGORIAN
BEGIN:VEVENT
DTSTART:20140910T210000Z
DTEND:20140910T230000Z
X-MICROSOFT-CDO-ALLDAYEVENT:FALSE
SUMMARY:Open House at Three Oaks Assisted Living & Memory Care
DESCRIPTION:Join Three Oaks Assisted Living & Memory Care in celebrating Assisted Living week\n\nSeptember 10th 4:00 pm to 6:00pm\n\n\n\nPlease RSVP so we know you will be join us to 847-516-6016
X-ALT-DESC;FMTTYPE=text/html:Join Three Oaks Assisted Living &amp\; Memory Care in celebrating Assisted Living week<br />\nSeptember 10th 4:00 pm to 6:00pm<br />\n<br />\nPlease RSVP so we know you will be join us to 847-516-6016
LOCATION:1055 Silver Lake Road Cary IL 60013
UID:e.138.4505
SEQUENCE:3
DTSTAMP:20260424T231523Z
URL:https://carygrovechamber-gz26-gzcms.preview.gochambermaster.com/events/details/open-house-at-three-oaks-assisted-living-memory-care-09-10-2014-4505
END:VEVENT

END:VCALENDAR
