BEGIN:VCALENDAR
VERSION:2.0
PRODID:-//ChamberMaster//Event Calendar 2.0//EN
METHOD:PUBLISH
X-PUBLISHED-TTL:P3D
REFRESH-INTERVAL:P3D
CALSCALE:GREGORIAN
BEGIN:VEVENT
DTSTART:20131201T170000Z
DTEND:20131201T200000Z
X-MICROSOFT-CDO-ALLDAYEVENT:FALSE
SUMMARY:Picture With Santa
DESCRIPTION:Come and take a picture with Santa and receive a free 4x6 picture with Santa.
X-ALT-DESC;FMTTYPE=text/html:Come and take a picture with Santa and receive a free 4x6 picture with Santa.&nbsp\;
LOCATION:CVS Pharmacy 25 Northwest Highway in Cary
UID:e.138.4203
SEQUENCE:3
DTSTAMP:20260425T145801Z
URL:https://carygrovechamber-gz26-gzcms.preview.gochambermaster.com/events/details/picture-with-santa-12-01-2013-4203
END:VEVENT

END:VCALENDAR
