BEGIN:VCALENDAR
VERSION:2.0
PRODID:-//ChamberMaster//Event Calendar 2.0//EN
METHOD:PUBLISH
X-PUBLISHED-TTL:P3D
REFRESH-INTERVAL:P3D
CALSCALE:GREGORIAN
BEGIN:VEVENT
DTSTART:20170220T183000Z
DTEND:20170220T210000Z
X-MICROSOFT-CDO-ALLDAYEVENT:FALSE
SUMMARY:President's Day Open Swim
DESCRIPTION:Spend your day off of school at Dolphin Swim Club! \n\nPack up your swim suits\, floaties\, and toys and burn off some energy swimming in our warm water! Slide down our dolphin slide and splash your friends! We ask that all families have an adult in water with kids under 5 at all times. Families with older children need to have an adult on deck with them.
X-ALT-DESC;FMTTYPE=text/html:Spend your day off of school at Dolphin Swim Club!&nbsp\;<br />\nPack up your swim suits\, floaties\, and toys and burn off some energy swimming in our warm water! Slide down our dolphin slide and splash your friends! We ask that all families have an adult in water with kids under 5 at all times. Families with older children need to have an adult on deck with them.&nbsp\;
LOCATION:825 Munshaw Lane Crystal Lake\, IL 60014
UID:e.138.6960
SEQUENCE:3
DTSTAMP:20260421T183931Z
URL:https://carygrovechamber-gz26-gzcms.preview.gochambermaster.com/events/details/president-s-day-open-swim-6960
END:VEVENT

END:VCALENDAR
