BEGIN:VCALENDAR
VERSION:2.0
PRODID:-//ChamberMaster//Event Calendar 2.0//EN
METHOD:PUBLISH
X-PUBLISHED-TTL:P3D
REFRESH-INTERVAL:P3D
CALSCALE:GREGORIAN
BEGIN:VEVENT
DTSTART:20150720T140000Z
DTEND:20150720T230000Z
X-MICROSOFT-CDO-ALLDAYEVENT:FALSE
SUMMARY:Raue Center For The Arts President's Golf Classic
DESCRIPTION:President's Golf Classic
X-ALT-DESC;FMTTYPE=text/html:President&#39\;s Golf Classic
LOCATION:Bull Valley Golf Club 1311 Club Rd. Woodstock\, IL
UID:e.138.3695
SEQUENCE:3
DTSTAMP:20260423T145257Z
URL:https://carygrovechamber-gz26-gzcms.preview.gochambermaster.com/events/details/raue-center-for-the-arts-president-s-golf-classic-07-20-2015-3695
END:VEVENT

END:VCALENDAR
