BEGIN:VCALENDAR
VERSION:2.0
PRODID:-//ChamberMaster//Event Calendar 2.0//EN
METHOD:PUBLISH
X-PUBLISHED-TTL:P3D
REFRESH-INTERVAL:P3D
CALSCALE:GREGORIAN
BEGIN:VEVENT
DTSTART:20150911T210000Z
DTEND:20150912T050000Z
X-MICROSOFT-CDO-ALLDAYEVENT:FALSE
SUMMARY:Rauetoberfest: Raue Center 2nd Annual Oktoberfest
DESCRIPTION:Raue Center For The Arts is proud to announce they will be hosting their second annual Rauetoberfest\, a nod to the traditional Oktoberfest celebration\, on September 12 from 4p until 12a at #11129 Illinois Rt 176 Woodstock\, IL 60014.\n\n \n\nRauetoberfest will feature all your favorite traditional German food\, music and activities and is a wonderful opportunity to celebrate tradition\, arts\, culture and\, of course\, beer!\n\n \n\nThere will be plenty to do for kids and all kids activities will be free of charge and run 4p until 8p. Kids 12 and under enter the fest for free with a paying adult.\n\n \n\nLocal beverage distributor\, Chas Herdrich & Sons will provide authentic German beers and will also feature a locally produced Oktoberfest-style beer by Crystal Lake Brewing. \n\n \n\nMusic will be a prominent focus of the festivities and will center on old-world-style oom-pah band and local favorite\, Die Musikmeisters.\n\n \n\nCaf  20 (Marengo\, IL) hosts one of the areas best Oktoberfest celebrations at their restaurant off of Route 20 and will be providing the food at this year's Rauetoberfest. Get all the traditional favorites from schnitzel to sausage.\n\n \n\nThe festival will be held in a beer garden fashion on a newly renovated farm outside of Crystal Lake. Guests should be sure to bring their appetites to this traditional celebration\, which promises to quench all their thirsts and provide hours of interactive entertainment\, all in the true spirit of an authentic German Oktoberfest. \n\n \n\nAll proceed from Rauetoberfest go directly to support Raue Center For The Arts' mission to bring the arts to all. \n\n \n\nRaue Center For The Art is a 501 (c) 3 nonprofit organization dedicated to enriching the lives of all through the arts. \n\n \n\nRaue Center For The Arts is proud to announce they will be hosting their second annual Rauetoberfest\, a nod to the traditional Oktoberfest celebration\, on September 12 from 4p until 12a at #11129 Illinois Rt 176 Woodstock\, IL 60014.\n\n \n\n \n\n \n\nRauetoberfest will feature all your favorite traditional German food\, music and activities and is a wonderful opportunity to celebrate tradition\, arts\, culture and\, of course\, beer! \n\n \n\n \n\n \n\nThere will be plenty to do for kids and all kids activities will be free of charge and run 4p until 8p. Kids 12 and under enter the fest for free with a paying adult. \n\n \n\n \n\n \n\nLocal beverage distributor\, Chas Herdrich & Sons will provide authentic German beers and will also feature a locally produced Oktoberfest-style beer by Crystal Lake Brewing.  \n\n \n\n \n\n \n\nMusic will be a prominent focus of the festivities and will center on old-world-style oom-pah band and local favorite\, Die Musikmeisters. \n\n \n\n \n\n \n\nCaf  20 (Marengo\, IL) hosts one of the areas best Oktoberfest celebrations at their restaurant off of Route 20 and will be providing the food at this year's Rauetoberfest. Get all the traditional favorites from schnitzel to sausage. \n\n \n\n \n\n \n\nThe festival will be held in a beer garden fashion on a newly renovated farm outside of Crystal Lake. Guests should be sure to bring their appetites to this traditional celebration\, which promises to quench all their thirsts and provide hours of interactive entertainment\, all in the true spirit of an authentic German Oktoberfest. \n\n \n\n \n\n \n\nAll proceed from Rauetoberfest go directly to support Raue Center For The Arts' mission to bring the arts to all. \n\n \n\n \n\n \n\nRaue Center For The Art is a 501 (c) 3 nonprofit organization dedicated to enriching the lives of all through the arts.
X-ALT-DESC;FMTTYPE=text/html:<h1 class="entry-title" style="border: 0px\; font-family: 'Helvetica Neue'\, Arial\, Helvetica\, 'Nimbus Sans L'\, sans-serif\; margin: 0px\; outline: 0px\; padding: 0px 0px 8px\; vertical-align: baseline\; text-rendering: optimizelegibility\; font-size: 20px\; line-height: 24px\; background-color: rgb(255\, 255\, 255)\;"><span style="font-size:14px\;"><span style="font-family:calibri\,sans-serif\;">Raue Center For The Arts is proud to announce they will be hosting their second annual Rauetoberfest\, a nod to the traditional Oktoberfest celebration\, on September 12 from 4p until 12a at <span style="border:1pt none windowtext\;padding:0in\;background-image:initial\;background-attachment:initial\;background-size:initial\;background-origin:initial\;background-clip:initial\;background-position:initial\;background-repeat:initial\;">#11129 Illinois Rt 176 Woodstock\, IL 60014.</span></span><br />\n&nbsp\;<br />\nRauetoberfest will feature all your favorite traditional German food\, music and activities and is a wonderful opportunity to celebrate tradition\, arts\, culture and\, of course\, beer!<br />\n&nbsp\;<br />\nThere will be plenty to do for kids and all kids activities will be free of charge and run 4p until 8p. Kids 12 and under enter the fest for free with a paying adult.<br />\n&nbsp\;<br />\nLocal beverage distributor\, Chas Herdrich &amp\; Sons will provide authentic German beers and will also feature a locally produced Oktoberfest-style beer by Crystal Lake Brewing.&nbsp\;<br />\n&nbsp\;<br />\nMusic will be a prominent focus of the festivities and will center on old-world-style oom-pah band and local favorite\, Die Musikmeisters.<br />\n&nbsp\;<br />\nCaf&eacute\; 20 (Marengo\, IL) hosts one of the areas best Oktoberfest celebrations at their restaurant off of Route 20 and will be providing the food at this year&rsquo\;s Rauetoberfest. Get all the traditional favorites from schnitzel to sausage.<br />\n&nbsp\;<br />\n<span style="font-family:calibri\,sans-serif\;">The festival will be held in a beer garden fashion on a newly renovated farm outside of Crystal Lake. Guests should be sure to bring their appetites to this traditional celebration\, which promises to quench all their thirsts and provide hours of interactive entertainment\, all in the true spirit of an authentic German Oktoberfest. </span><br />\n&nbsp\;<br />\n<span style="font-family:calibri\,sans-serif\;">All proceed from Rauetoberfest go directly to support Raue Center For The Arts&rsquo\; mission to bring the arts to all. </span><br />\n&nbsp\;<br />\n<span style="font-family:calibri\,sans-serif\;">Raue Center For The Art is a 501 (c) 3 nonprofit organization dedicated to enriching the lives of all through the arts. </span><br />\n&nbsp\;</span></h1>\n\n<p class="MsoNormal"><span style="font-size:14px\;"><span style="font-family:&quot\;Calibri&quot\;\,&quot\;sans-serif&quot\;\;mso-ascii-theme-font:\nmajor-latin\;mso-hansi-theme-font:major-latin">Raue Center For The Arts is proud to announce they will be hosting their second annual Rauetoberfest\, a nod to the traditional Oktoberfest celebration\, on September 12 from 4p until 12a at <span style="border: 1pt none windowtext\; padding: 0in\; background-image: initial\; background-attachment: initial\; background-size: initial\; background-origin: initial\; background-clip: initial\; background-position: initial\; background-repeat: initial\;">#11129 Illinois Rt 176 Woodstock\, IL 60014.</span></span></span><span style="font-family:&quot\;Calibri&quot\;\,&quot\;sans-serif&quot\;\;mso-ascii-theme-font:\nmajor-latin\;mso-hansi-theme-font:major-latin"><o:p></o:p></span></p>\n\n<p style="margin-top:.1pt\;margin-right:0in\;margin-bottom:.1pt\;margin-left:0in">&nbsp\;</p>\n\n<p style="margin-top:.1pt\;margin-right:0in\;margin-bottom:.1pt\;margin-left:0in">&nbsp\;</p>\n\n<p style="margin-top:.1pt\;margin-right:0in\;margin-bottom:.1pt\;margin-left:0in"><span style="font-size:12px\;"><span style="font-size:14px\;"><span style="font-family: Calibri\, sans-serif\;"><o:p>&nbsp\;</o:p></span></span></span></p>\n\n<p style="margin-top:.1pt\;margin-right:0in\;margin-bottom:.1pt\;margin-left:0in"><span style="font-size:12px\;"><span style="font-size:14px\;"><span class="A5">Rauetoberfest will feature all your favorite traditional German food\, music and activities and is a wonderful opportunity to celebrate tradition\, arts\, culture and\, of course\, beer! </span><span class="A5"><o:p></o:p></span></span></span></p>\n\n<p style="margin-top:.1pt\;margin-right:0in\;margin-bottom:.1pt\;margin-left:0in">&nbsp\;</p>\n\n<p style="margin-top:.1pt\;margin-right:0in\;margin-bottom:.1pt\;margin-left:0in">&nbsp\;</p>\n\n<p style="margin-top:.1pt\;margin-right:0in\;margin-bottom:.1pt\;margin-left:0in"><span style="font-size:12px\;"><span style="font-size:14px\;"><span class="A5"><o:p>&nbsp\;</o:p></span></span></span></p>\n\n<p style="margin-top:.1pt\;margin-right:0in\;margin-bottom:.1pt\;margin-left:0in"><span style="font-size:12px\;"><span style="font-size:14px\;"><span class="A5">There will be plenty to do for kids and all kids activities will be free of charge and run 4p until 8p. Kids 12 and under enter the fest for free with a paying adult. </span><span class="A5"><o:p></o:p></span></span></span></p>\n\n<p style="margin-top:.1pt\;margin-right:0in\;margin-bottom:.1pt\;margin-left:0in">&nbsp\;</p>\n\n<p style="margin-top:.1pt\;margin-right:0in\;margin-bottom:.1pt\;margin-left:0in">&nbsp\;</p>\n\n<p style="margin-top:.1pt\;margin-right:0in\;margin-bottom:.1pt\;margin-left:0in"><span style="font-size:12px\;"><span style="font-size:14px\;"><span class="A5"><o:p>&nbsp\;</o:p></span></span></span></p>\n\n<p style="margin-top:.1pt\;margin-right:0in\;margin-bottom:.1pt\;margin-left:0in"><span style="font-size:12px\;"><span style="font-size:14px\;"><span class="A5">Local beverage distributor\, Chas Herdrich &amp\; Sons will provide authentic German beers and will also feature a locally produced Oktoberfest-style beer by Crystal Lake Brewing.&nbsp\; </span><span class="A5"><o:p></o:p></span></span></span></p>\n\n<p style="margin-top:.1pt\;margin-right:0in\;margin-bottom:.1pt\;margin-left:0in">&nbsp\;</p>\n\n<p style="margin-top:.1pt\;margin-right:0in\;margin-bottom:.1pt\;margin-left:0in">&nbsp\;</p>\n\n<p style="margin-top:.1pt\;margin-right:0in\;margin-bottom:.1pt\;margin-left:0in"><span style="font-size:12px\;"><span style="font-size:14px\;"><span class="A5"><o:p>&nbsp\;</o:p></span></span></span></p>\n\n<p style="margin-top:.1pt\;margin-right:0in\;margin-bottom:.1pt\;margin-left:0in"><span style="font-size:12px\;"><span style="font-size:14px\;"><span class="A5">Music will be a prominent focus of the festivities and will center on old-world-style oom-pah band and local favorite\, Die Musikmeisters. </span><span class="A5"><o:p></o:p></span></span></span></p>\n\n<p style="margin-top:.1pt\;margin-right:0in\;margin-bottom:.1pt\;margin-left:0in">&nbsp\;</p>\n\n<p style="margin-top:.1pt\;margin-right:0in\;margin-bottom:.1pt\;margin-left:0in">&nbsp\;</p>\n\n<p style="margin-top:.1pt\;margin-right:0in\;margin-bottom:.1pt\;margin-left:0in"><span style="font-size:12px\;"><span style="font-size:14px\;"><span class="A5"><o:p>&nbsp\;</o:p></span></span></span></p>\n\n<p style="margin-top:.1pt\;margin-right:0in\;margin-bottom:.1pt\;margin-left:0in"><span style="font-size:12px\;"><span style="font-size:14px\;"><span class="A5">Caf&eacute\; 20 (Marengo\, IL) hosts one of the areas best Oktoberfest celebrations at their restaurant off of Route 20 and will be providing the food at this year&rsquo\;s Rauetoberfest. Get all the traditional favorites from schnitzel to sausage. </span><span class="A5"><o:p></o:p></span></span></span></p>\n\n<p style="margin-top:.1pt\;margin-right:0in\;margin-bottom:.1pt\;margin-left:0in">&nbsp\;</p>\n\n<p style="margin-top:.1pt\;margin-right:0in\;margin-bottom:.1pt\;margin-left:0in">&nbsp\;</p>\n\n<p style="margin-top:.1pt\;margin-right:0in\;margin-bottom:.1pt\;margin-left:0in"><span style="font-size:12px\;"><span style="font-size:14px\;"><span class="A5"><o:p>&nbsp\;</o:p></span></span></span></p>\n\n<p style="margin-top:.1pt\;margin-right:0in\;margin-bottom:.1pt\;margin-left:0in"><span style="font-size:12px\;"><span style="font-size:14px\;"><span style="font-family: Calibri\, sans-serif\;">The festival will be held in a beer garden fashion on a newly renovated farm outside of Crystal Lake. Guests should be sure to bring their appetites to this traditional celebration\, which promises to quench all their thirsts and provide hours of interactive entertainment\, all in the true spirit of an authentic German Oktoberfest. </span><span style="font-family: Calibri\, sans-serif\;"><o:p></o:p></span></span></span></p>\n\n<p style="margin-top:.1pt\;margin-right:0in\;margin-bottom:.1pt\;margin-left:0in">&nbsp\;</p>\n\n<p style="margin-top:.1pt\;margin-right:0in\;margin-bottom:.1pt\;margin-left:0in">&nbsp\;</p>\n\n<p style="margin-top:.1pt\;margin-right:0in\;margin-bottom:.1pt\;margin-left:0in"><span style="font-size:12px\;"><span style="font-size:14px\;"><span style="font-family: Calibri\, sans-serif\;"><o:p>&nbsp\;</o:p></span></span></span></p>\n\n<p style="margin-top:.1pt\;margin-right:0in\;margin-bottom:.1pt\;margin-left:0in"><span style="font-size:12px\;"><span style="font-size:14px\;"><span style="font-family: Calibri\, sans-serif\;">All proceed from Rauetoberfest go directly to support Raue Center For The Arts&rsquo\; mission to bring the arts to all. </span><span style="font-family: Calibri\, sans-serif\;"><o:p></o:p></span></span></span></p>\n\n<p style="margin-top:.1pt\;margin-right:0in\;margin-bottom:.1pt\;margin-left:0in">&nbsp\;</p>\n\n<p style="margin-top:.1pt\;margin-right:0in\;margin-bottom:.1pt\;margin-left:0in">&nbsp\;</p>\n\n<p style="margin-top:.1pt\;margin-right:0in\;margin-bottom:.1pt\;margin-left:0in"><span style="font-size:12px\;"><span style="font-size:14px\;"><span style="font-family: Calibri\, sans-serif\;"><o:p>&nbsp\;</o:p></span></span></span></p>\n\n<p style="margin-top:.1pt\;margin-right:0in\;margin-bottom:.1pt\;margin-left:0in"><span style="font-size:12px\;"><span style="font-size:14px\;"><span style="font-family: Calibri\, sans-serif\;">Raue Center For The Art is a 501 (c) 3 nonprofit organization dedicated to enriching the lives of all through the arts. </span><span style="font-family: Calibri\, sans-serif\;"><o:p></o:p></span></span></span></p>\n\n<p style="margin-top:.1pt\;margin-right:0in\;margin-bottom:.1pt\;margin-left:0in">&nbsp\;</p>\n\n<p style="margin-top:.1pt\;margin-right:0in\;margin-bottom:.1pt\;margin-left:0in">&nbsp\;</p>\n\n<p style="margin-top:.1pt\;margin-right:0in\;margin-bottom:.1pt\;margin-left:0in"><span style="font-size:12px\;"><span style="font-size:14px\;"><span style="font-family: Calibri\, sans-serif\;"><o:p>&nbsp\;</o:p></span></span></span></p>\n\n<p style="margin-top:.1pt\;margin-right:0in\;margin-bottom:.1pt\;margin-left:0in">&nbsp\;</p>\n\n<p style="margin-top:.1pt\;margin-right:0in\;margin-bottom:.1pt\;margin-left:0in">&nbsp\;</p>\n\n<p style="margin-top:.1pt\;margin-right:0in\;margin-bottom:.1pt\;margin-left:0in">&nbsp\;</p>\n\n<p style="margin-top:.1pt\;margin-right:0in\;margin-bottom:.1pt\;margin-left:0in">&nbsp\;</p>\n
LOCATION:11129 Illinois Rt 176 Woodstock\,IL
UID:e.138.5452
SEQUENCE:3
DTSTAMP:20260423T104059Z
URL:https://carygrovechamber-gz26-gzcms.preview.gochambermaster.com/events/details/rauetoberfest-raue-center-2nd-annual-oktoberfest-09-11-2015-5452
END:VEVENT

END:VCALENDAR
