BEGIN:VCALENDAR
VERSION:2.0
PRODID:-//ChamberMaster//Event Calendar 2.0//EN
METHOD:PUBLISH
X-PUBLISHED-TTL:P3D
REFRESH-INTERVAL:P3D
CALSCALE:GREGORIAN
BEGIN:VEVENT
DTSTART:20131201T190000Z
DTEND:20131201T200000Z
X-MICROSOFT-CDO-ALLDAYEVENT:FALSE
SUMMARY:Ronald McDonald in Merry Cary parade
DESCRIPTION:
X-ALT-DESC;FMTTYPE=text/html:
LOCATION:Downtown Cary
UID:e.138.4204
SEQUENCE:3
DTSTAMP:20260425T145800Z
URL:https://carygrovechamber-gz26-gzcms.preview.gochambermaster.com/events/details/ronald-mcdonald-in-merry-cary-parade-12-01-2013-4204
END:VEVENT

END:VCALENDAR
