BEGIN:VCALENDAR
VERSION:2.0
PRODID:-//ChamberMaster//Event Calendar 2.0//EN
METHOD:PUBLISH
X-PUBLISHED-TTL:P3D
REFRESH-INTERVAL:P3D
CALSCALE:GREGORIAN
BEGIN:VEVENT
DTSTART:20180622T160000Z
DTEND:20180622T220000Z
X-MICROSOFT-CDO-ALLDAYEVENT:FALSE
SUMMARY:STAR Charities Tee Up 4 Charity for Pioneer Center
DESCRIPTION:Registration for the 2018 STAR Charities 'Tee Up 4 Charity' Golf Outing is now OPEN! Join us on Friday\, June 22nd\, for a full day of golf\, fun\, and friends\, with all proceeds benefitting the Pioneer Center for Human Services. We hope to see you there! https://one.bidpal.net/stargolf/welcome
X-ALT-DESC;FMTTYPE=text/html:Registration for the 2018 STAR Charities &#39\;Tee Up 4 Charity&#39\; Golf Outing is now OPEN! Join us on Friday\, June 22nd\, for a full day of golf\, fun\, and friends\, with all proceeds benefitting the Pioneer Center for Human Services. We hope to see you there! https://one.bidpal.net/stargolf/welcome
LOCATION:Prairie Isle Golf Course Prairie Grove\, IL
UID:e.138.7721
SEQUENCE:3
DTSTAMP:20260420T104717Z
URL:https://carygrovechamber-gz26-gzcms.preview.gochambermaster.com/events/details/star-charities-tee-up-4-charity-for-pioneer-center-7721
END:VEVENT

END:VCALENDAR
