BEGIN:VCALENDAR
VERSION:2.0
PRODID:-//ChamberMaster//Event Calendar 2.0//EN
METHOD:PUBLISH
X-PUBLISHED-TTL:P3D
REFRESH-INTERVAL:P3D
CALSCALE:GREGORIAN
BEGIN:VEVENT
DTSTART:20171019T230000Z
DTEND:20171020T003000Z
X-MICROSOFT-CDO-ALLDAYEVENT:FALSE
SUMMARY:State of the Real Estate Market in FRG and Cary
DESCRIPTION:Join Beth Repta of Repta Realty Group/Keller Williams for a discussion about the state of the real estate market in Fox River Grove and Cary. Learn about the key economic indicators of the FRG and Cary markets\, what today's buyers are looking for in a home\, what are good investments when considering home improvement projects\, and more!
X-ALT-DESC;FMTTYPE=text/html:Join Beth Repta of Repta Realty Group/Keller Williams for a discussion about the state of the real estate market in Fox River Grove and Cary. Learn about the key economic indicators of the FRG and Cary markets\, what today&#39\;s buyers are looking for in a home\, what are good investments when considering home improvement projects\, and more!
LOCATION:Fox River Grove Memorial Library 407 Lincoln Ave. Fox River Grove\, IL 60021
UID:e.138.7440
SEQUENCE:3
DTSTAMP:20260421T035612Z
URL:https://carygrovechamber-gz26-gzcms.preview.gochambermaster.com/events/details/state-of-the-real-estate-market-in-frg-and-cary-7440
END:VEVENT

END:VCALENDAR
