BEGIN:VCALENDAR
VERSION:2.0
PRODID:-//ChamberMaster//Event Calendar 2.0//EN
METHOD:PUBLISH
X-PUBLISHED-TTL:P3D
REFRESH-INTERVAL:P3D
CALSCALE:GREGORIAN
BEGIN:VEVENT
DTSTART:20130924T150000Z
DTEND:20131119T163000Z
X-MICROSOFT-CDO-ALLDAYEVENT:FALSE
SUMMARY:Story Time for Wee Ones
DESCRIPTION:Calling all little listeners\, movers\, and crafters! Join us for some music\, stories and crafts during this storytime geared toward children 6 - 23 months old and their caregivers. Call (847) 639-2274 to register.
X-ALT-DESC;FMTTYPE=text/html:Calling all little listeners\, movers\, and crafters! Join us for some music\, stories and crafts during this storytime geared toward children 6 - 23 months old and their caregivers. Call (847) 639-2274 to register. 
LOCATION:Fox River Grove Memorial Library 407 Lincoln Ave. Fox River Grove\, IL 60021
UID:e.138.4182
SEQUENCE:3
DTSTAMP:20260425T184003Z
URL:https://carygrovechamber-gz26-gzcms.preview.gochambermaster.com/events/details/story-time-for-wee-ones-09-24-2013-4182
END:VEVENT

END:VCALENDAR
