BEGIN:VCALENDAR
VERSION:2.0
PRODID:-//ChamberMaster//Event Calendar 2.0//EN
METHOD:PUBLISH
X-PUBLISHED-TTL:P3D
REFRESH-INTERVAL:P3D
CALSCALE:GREGORIAN
BEGIN:VEVENT
DTSTART:20170306T020000Z
DTEND:20170306T040000Z
X-MICROSOFT-CDO-ALLDAYEVENT:FALSE
SUMMARY:Switchback
DESCRIPTION:It's never too early to start the St. Pat's celebrations! Join Raue Center for a spirited night of Celtic Americana music with Switchback.
X-ALT-DESC;FMTTYPE=text/html:It&rsquo\;s never too early to start the St. Pat&rsquo\;s celebrations! Join Raue Center for a spirited night of Celtic Americana music with Switchback.
LOCATION:Raue Center For The Arts 26 N. Williams Street Crystal Lake\, IL 60014
UID:e.138.6668
SEQUENCE:3
DTSTAMP:20260421T170925Z
URL:https://carygrovechamber-gz26-gzcms.preview.gochambermaster.com/events/details/switchback-03-05-2017-6668
END:VEVENT

END:VCALENDAR
