BEGIN:VCALENDAR
VERSION:2.0
PRODID:-//ChamberMaster//Event Calendar 2.0//EN
METHOD:PUBLISH
X-PUBLISHED-TTL:P3D
REFRESH-INTERVAL:P3D
CALSCALE:GREGORIAN
BEGIN:VEVENT
DTSTART:20170929T000000Z
DTEND:20170929T010000Z
X-MICROSOFT-CDO-ALLDAYEVENT:FALSE
SUMMARY:Taking Control of Back Pain with Athletico
DESCRIPTION:The Athletico in Cary will be providing a free lecture about low back pain on Thursday\, September 28\, 2017 from 7:00-8:00 p.m. at the Cary Public Library.  Physical therapist Adam Fritsch will be talking about how to retake control of your low back pain.  He will also be discussing common misconceptions about low back pain and some ideas to help address your pain.
X-ALT-DESC;FMTTYPE=text/html:<span style="color: rgb(0\, 0\, 0)\; font-family: Tahoma\; font-size: 13.3333px\;">The Athletico in Cary will be providing a free lecture about low back pain&nbsp\;on&nbsp\;</span><span class="aBn" data-term="goog_534421619" style="border-bottom: 1px dashed rgb(204\, 204\, 204)\; position: relative\; top: -2px\; z-index: 0\; color: rgb(0\, 0\, 0)\; font-family: Tahoma\; font-size: 13.3333px\;" tabindex="0"><span class="aQJ" style="position: relative\; top: 2px\; z-index: -1\;">Thursday\, September 28\, 2017 from 7:00-8:00 p.m.</span></span><font style="color: rgb(0\, 0\, 0)\; font-family: Tahoma\; font-size: 13.3333px\;">&nbsp\;at the Cary Public Library. &nbsp\;Physical therapist&nbsp\;</font><span style="color: rgb(0\, 0\, 0)\; font-family: Tahoma\; font-size: 13.3333px\;">Adam Fritsch will be talking about how to retake control of your low back pain. &nbsp\;He will also be discussing&nbsp\;common misconceptions about low back pain and some ideas to help address your pain.</span>
LOCATION:Cary Area Library 1606 Three Oaks Rd. Cary\, IL
UID:e.138.7449
SEQUENCE:3
DTSTAMP:20260421T052651Z
URL:https://carygrovechamber-gz26-gzcms.preview.gochambermaster.com/events/details/taking-control-of-back-pain-with-athletico-7449
END:VEVENT

END:VCALENDAR
