BEGIN:VCALENDAR
VERSION:2.0
PRODID:-//ChamberMaster//Event Calendar 2.0//EN
METHOD:PUBLISH
X-PUBLISHED-TTL:P3D
REFRESH-INTERVAL:P3D
CALSCALE:GREGORIAN
BEGIN:VEVENT
DTSTART:20141004T200000Z
DTEND:20141005T040000Z
X-MICROSOFT-CDO-ALLDAYEVENT:FALSE
SUMMARY:Team Carone Music Festival
DESCRIPTION:https://www.eventbrite.com/e/teamcarone-shutdowncancer-music-fest-tickets-11676254993
X-ALT-DESC;FMTTYPE=text/html:https://www.eventbrite.com/e/teamcarone-shutdowncancer-music-fest-tickets-11676254993<br />\n&nbsp\;
LOCATION:Bob Wegener's Farm 2815 Barreville Road McHenry\, IL 60050
UID:e.138.4356
SEQUENCE:3
DTSTAMP:20260424T203712Z
URL:https://carygrovechamber-gz26-gzcms.preview.gochambermaster.com/events/details/team-carone-music-festival-10-04-2014-4356
END:VEVENT

END:VCALENDAR
