BEGIN:VCALENDAR
VERSION:2.0
PRODID:-//ChamberMaster//Event Calendar 2.0//EN
METHOD:PUBLISH
X-PUBLISHED-TTL:P3D
REFRESH-INTERVAL:P3D
CALSCALE:GREGORIAN
BEGIN:VEVENT
DTSTART:20150601T140000Z
DTEND:20150808T210000Z
X-MICROSOFT-CDO-ALLDAYEVENT:FALSE
SUMMARY:Teen and Adult Summer Reading Program
DESCRIPTION:Teens and Adults are invited to "Read to the Rhythm" while taking part in our summer reading club. Complete at least four books or audiobooks between June 1st and August 8th to snag some smash-hit prizes!
X-ALT-DESC;FMTTYPE=text/html:Teens and Adults are invited to &quot\;Read to the Rhythm&quot\; while taking part in our summer reading club. Complete at least four books or audiobooks between June 1st and August 8th to snag some smash-hit prizes!
LOCATION:Fox River Grove Memorial Library 407 Lincoln Ave. Fox River Grove\, IL 60021
UID:e.138.5940
SEQUENCE:3
DTSTAMP:20260423T161635Z
URL:https://carygrovechamber-gz26-gzcms.preview.gochambermaster.com/events/details/teen-and-adult-summer-reading-program-06-01-2015-5940
END:VEVENT

END:VCALENDAR
