BEGIN:VCALENDAR
VERSION:2.0
PRODID:-//ChamberMaster//Event Calendar 2.0//EN
METHOD:PUBLISH
X-PUBLISHED-TTL:P3D
REFRESH-INTERVAL:P3D
CALSCALE:GREGORIAN
BEGIN:VEVENT
DTSTART:20130626T233000Z
DTEND:20130627T010000Z
X-MICROSOFT-CDO-ALLDAYEVENT:FALSE
SUMMARY:Teen Book Talk/Swap
DESCRIPTION:Bring your brain\, enthusiasm\, and a book in order to join our Teen Book Talk/Swap! This is a discussion group based on the best books you've read this summer. At the end\, you will swap books with someone else in the group! Sign up at the circulation desk. Registration required.
X-ALT-DESC;FMTTYPE=text/html:<p style="margin-bottom: 0in\;">\n	<font color="#355e00"><font size="6" style="font-size: 22pt\;">Bring your brain\, enthusiasm\, and a book in order to join our Teen Book Talk/Swap! This is a discussion group based on the best books you&#39\;ve read this summer. At the end\, you will swap books with someone else in the group! Sign up at the circulation desk. Registration required.</font></font></p>\n
LOCATION:Fox River Grove Memorial Library 407 Lincoln Avenue Fox River Grove\, IL 60021
UID:e.138.3801
SEQUENCE:3
DTSTAMP:20260426T012105Z
URL:https://carygrovechamber-gz26-gzcms.preview.gochambermaster.com/events/details/teen-book-talk-swap-06-26-2013-3801
END:VEVENT

END:VCALENDAR
