BEGIN:VCALENDAR
VERSION:2.0
PRODID:-//ChamberMaster//Event Calendar 2.0//EN
METHOD:PUBLISH
X-PUBLISHED-TTL:P3D
REFRESH-INTERVAL:P3D
CALSCALE:GREGORIAN
BEGIN:VEVENT
DTSTART:20190620T220000Z
DTEND:20190621T000000Z
X-MICROSOFT-CDO-ALLDAYEVENT:FALSE
SUMMARY:The Swing Set at Raue Center Café
DESCRIPTION:The Swing Set at Raue Center Caf  JUNE 20 @ 5   7p FREE ADMISSION! Raue Center hosts some of the best local talents around in its cafe space. Dedicated to realizing its mission of Arts for All\, Raue Center is proud to host local talent free of charge to our community. Artists are welcome to hone their skills in a warm\, cozy atmosphere while patrons are free to indulge in a selection of beverages from our cafe bar. If you are interested in performing in our cafe space please email program manager\, Kayti Sault at ksault@rauecenter.org. Caf  programming is sponsored by Piano Trends.
X-ALT-DESC;FMTTYPE=text/html:The Swing Set at Raue Center Caf&eacute\; JUNE 20 @ 5 &ndash\; 7p FREE ADMISSION! Raue Center hosts some of the best local talents around in its cafe space. Dedicated to realizing its mission of Arts for All\, Raue Center is proud to host local talent free of charge to our community. Artists are welcome to hone their skills in a warm\, cozy atmosphere while patrons are free to indulge in a selection of beverages from our cafe bar. If you are interested in performing in our cafe space please email program manager\, Kayti Sault at ksault@rauecenter.org. Caf&eacute\; programming is sponsored by Piano Trends.
LOCATION:Raue Center For The Arts 26 N. Williams Street Crystal Lake\, IL 60014
UID:e.138.9655
SEQUENCE:3
DTSTAMP:20260419T163252Z
URL:https://carygrovechamber-gz26-gzcms.preview.gochambermaster.com/events/details/the-swing-set-at-raue-center-caf&#233;-9655
END:VEVENT

END:VCALENDAR
