BEGIN:VCALENDAR
VERSION:2.0
PRODID:-//ChamberMaster//Event Calendar 2.0//EN
METHOD:PUBLISH
X-PUBLISHED-TTL:P3D
REFRESH-INTERVAL:P3D
CALSCALE:GREGORIAN
BEGIN:VEVENT
DTSTART:20181116T010000Z
DTEND:20181116T023000Z
X-MICROSOFT-CDO-ALLDAYEVENT:FALSE
SUMMARY:Trinity Oaks High School Open House
DESCRIPTION:Join us for High School Open House as you tour the campus and discover the value and difference a Trinity Oaks Christian Academy Education can make!
X-ALT-DESC;FMTTYPE=text/html:<span style="background-color:rgb(255\, 255\, 255)\; color:rgb(51\, 51\, 51)\; font-family:sans-serif\,arial\,verdana\,trebuchet ms\; font-size:13px">Join us for High School Open House as you tour the campus and discover the value and difference a Trinity Oaks Christian Academy Education can make!</span>
LOCATION:Trinity Oaks Christian Academy 233 Trinity Oaks Way Cary\, Il. 60013
UID:e.138.9408
SEQUENCE:3
DTSTAMP:20260420T022546Z
URL:https://carygrovechamber-gz26-gzcms.preview.gochambermaster.com/events/details/trinity-oaks-high-school-open-house-9408
END:VEVENT

END:VCALENDAR
