BEGIN:VCALENDAR
VERSION:2.0
PRODID:-//ChamberMaster//Event Calendar 2.0//EN
METHOD:PUBLISH
X-PUBLISHED-TTL:P3D
REFRESH-INTERVAL:P3D
CALSCALE:GREGORIAN
BEGIN:VEVENT
DTSTART:20140917T233000Z
DTEND:20140918T010000Z
X-MICROSOFT-CDO-ALLDAYEVENT:FALSE
SUMMARY:Understanding Reiki
DESCRIPTION:Join Marylou Nunamaker\, a Reiki II practitioner\, for a brief presentation of the Japanese spiritual practice of Reiki. Three attendees will receive an individual 15-minute attunement during the presentation. Understanding Reiki is a tool for everyday living. Registration is required.
X-ALT-DESC;FMTTYPE=text/html:Join Marylou Nunamaker\, a Reiki II practitioner\, for a brief presentation of the Japanese spiritual practice of Reiki. Three attendees will receive an individual 15-minute attunement during the presentation. Understanding Reiki is a tool for everyday living. Registration is required.
LOCATION:Fox River Grove Memorial Library
UID:e.138.4518
SEQUENCE:3
DTSTAMP:20260424T215336Z
URL:https://carygrovechamber-gz26-gzcms.preview.gochambermaster.com/events/details/understanding-reiki-09-17-2014-4518
END:VEVENT

END:VCALENDAR
