BEGIN:VCALENDAR
VERSION:2.0
PRODID:-//ChamberMaster//Event Calendar 2.0//EN
METHOD:PUBLISH
X-PUBLISHED-TTL:P3D
REFRESH-INTERVAL:P3D
CALSCALE:GREGORIAN
BEGIN:VEVENT
DTSTART:20170128T150000Z
DTEND:20170128T230000Z
X-MICROSOFT-CDO-ALLDAYEVENT:FALSE
SUMMARY:Valentine's Day Mini Sessions are Here!
DESCRIPTION:Kellwood Studio Photography is preparing our hearts for these sweet little cherub memories of Valentine's Day!\n\nSessions are $175.00 and are booked in advance with a $50 Deposit. Space is limited! Call now to inquire about a session for your little angel!
X-ALT-DESC;FMTTYPE=text/html:Kellwood Studio Photography is preparing our hearts for these sweet little cherub memories of Valentine&#39\;s Day!<br />\nSessions are $175.00 and are booked in advance with a $50 Deposit. Space is limited! Call now to inquire about a session for your little angel!&nbsp\;
LOCATION:822 Brentwood Drive Cary
UID:e.138.6900
SEQUENCE:3
DTSTAMP:20260421T200818Z
URL:https://carygrovechamber-gz26-gzcms.preview.gochambermaster.com/events/details/valentine-s-day-mini-sessions-are-here-6900
END:VEVENT

END:VCALENDAR
