BEGIN:VCALENDAR
VERSION:2.0
PRODID:-//ChamberMaster//Event Calendar 2.0//EN
METHOD:PUBLISH
X-PUBLISHED-TTL:P3D
REFRESH-INTERVAL:P3D
CALSCALE:GREGORIAN
BEGIN:VEVENT
DTSTART:20170615T123000Z
DTEND:20170615T140000Z
X-MICROSOFT-CDO-ALLDAYEVENT:FALSE
SUMMARY:WIM3 2017 Scholarship Recipients
DESCRIPTION:Please join WIM3 for a very memorable morning of celebration as they recognize and hear the hopes and dreams of the 2017 Scholarship Recipients. Recipients: Kara Lentine: Graduating Senior Crystal Lake South High School Sydney Randle: Graduating Senior\, Johnsburg High School Sandra Fuit: Currently Enrolled at McHenry County College WIM3 is dedicated to the process of developing long-term\, mutually beneficial relationships and cultivating new opportunities for collaboration through a supportive exchange of ideas and resources. They fulfill this mission in their communities through scholarship opportunities offered to women pursuing higher education or additional professional certifications.
X-ALT-DESC;FMTTYPE=text/html:Please join WIM3 for a very memorable morning of celebration as they recognize and hear the hopes and dreams of the 2017 Scholarship Recipients. Recipients: Kara Lentine: Graduating Senior Crystal Lake South High School Sydney Randle: Graduating Senior\, Johnsburg High School Sandra Fuit: Currently Enrolled at McHenry County College WIM3 is dedicated to the process of developing long-term\, mutually beneficial relationships and cultivating new opportunities for collaboration through a supportive exchange of ideas and resources. They fulfill this mission in their communities through scholarship opportunities offered to women pursuing higher education or additional professional certifications.
LOCATION:Lakeside Legacy Arts Park 401 Country Club Rd. Crystal Lake\, IL 60014
UID:e.138.7359
SEQUENCE:3
DTSTAMP:20260421T124251Z
URL:https://carygrovechamber-gz26-gzcms.preview.gochambermaster.com/events/details/wim3-2017-scholarship-recipients-7359
END:VEVENT

END:VCALENDAR
