BEGIN:VCALENDAR
VERSION:2.0
PRODID:-//ChamberMaster//Event Calendar 2.0//EN
METHOD:PUBLISH
X-PUBLISHED-TTL:P3D
REFRESH-INTERVAL:P3D
CALSCALE:GREGORIAN
BEGIN:VEVENT
DTSTART:20141016T123000Z
DTEND:20141016T140000Z
X-MICROSOFT-CDO-ALLDAYEVENT:FALSE
SUMMARY:WIM3 Third Thursday talks
DESCRIPTION:Enhance your professional career by following the sun!\n\nFourth\, in an all new interview series\, will be with Anne Nordhaus-Bike\,\n\nAward winning astrology writer & frequent WGN radio guest and author of Follow The Sun.\n\nBook signing to follow presentation.\n\n\n\nDiscussion will be centered on how to use astrology\n\nin practical yet inspiring ways to enhance a professional career.
X-ALT-DESC;FMTTYPE=text/html:Enhance your professional career by following the sun!<br />\nFourth\, in an all new interview series\, will be with Anne Nordhaus-Bike\,<br />\nAward winning astrology writer &amp\; frequent WGN radio guest and author of Follow The Sun.<br />\nBook signing to follow presentation.<br />\n<br />\nDiscussion will be centered on how to use astrology<br />\nin practical yet inspiring ways to enhance a professional career.
LOCATION:31 North Banquets 217 S. Front St. McHenry\, IL 60050
UID:e.138.4818
SEQUENCE:3
DTSTAMP:20260424T203627Z
URL:https://carygrovechamber-gz26-gzcms.preview.gochambermaster.com/events/details/wim3-third-thursday-talks-10-16-2014-4818
END:VEVENT

END:VCALENDAR
