BEGIN:VCALENDAR
VERSION:2.0
PRODID:-//ChamberMaster//Event Calendar 2.0//EN
METHOD:PUBLISH
X-PUBLISHED-TTL:P3D
REFRESH-INTERVAL:P3D
CALSCALE:GREGORIAN
BEGIN:VEVENT
DTSTART:20150219T133000Z
DTEND:20150219T150000Z
X-MICROSOFT-CDO-ALLDAYEVENT:FALSE
SUMMARY:WIM3: Women In McHenry Co. 3rd Thursday Talks
DESCRIPTION:WIM3 JOINS THE FIGHT AND GOES RED FOR WOMEN!\n\nWIM3 members are inviting all women to join them in the fight to end heart disease.\n\nEighth in their interview series will be with Kelly Wick-Bartesch\, Youth Market Director\,\n\nwith the American Heart Association.\n\nHer passion is to educate families on the importance of knowing their heart health and\n\nwhat can be done to recognize and prevent heart disease both young and old.\n\nAll women attending are encouraged to wear red that morning in their support.
X-ALT-DESC;FMTTYPE=text/html:WIM3 JOINS THE FIGHT AND GOES RED FOR WOMEN!<br />\nWIM3 members are inviting all women to join them in the fight to end heart disease.<br />\nEighth in their interview series will be with Kelly Wick-Bartesch\, Youth Market Director\,<br />\nwith the American Heart Association.<br />\nHer passion is to educate families on the importance of knowing their heart health and<br />\nwhat can be done to recognize and prevent heart disease both young and old.<br />\nAll women attending are encouraged to wear red that morning in their support.
LOCATION:31 North Banquets 217 North Front St. McHenry\, IL 560050
UID:e.138.5287
SEQUENCE:3
DTSTAMP:20260424T063856Z
URL:https://carygrovechamber-gz26-gzcms.preview.gochambermaster.com/events/details/wim3-women-in-mchenry-co-3rd-thursday-talks-02-19-2015-5287
END:VEVENT

END:VCALENDAR
