BEGIN:VCALENDAR
VERSION:2.0
PRODID:-//ChamberMaster//Event Calendar 2.0//EN
METHOD:PUBLISH
X-PUBLISHED-TTL:P3D
REFRESH-INTERVAL:P3D
CALSCALE:GREGORIAN
BEGIN:VEVENT
DTSTART:20150521T123000Z
DTEND:20150521T140000Z
X-MICROSOFT-CDO-ALLDAYEVENT:FALSE
SUMMARY:WIM3: Women In McHenry Co. 3rd Thursday Talks
DESCRIPTION:Tenth in their interview series will be with Psychotherapist Linda Gullo author of Erasing Adversity and owner of Delight in Living\, Ltd.  Discussion will be centered on Linda's own personal traumas that happened within her family in the early 1990's and how she learned to recognize and embrace what was still available to help create happiness. \n\nWomen of McHenry County3   formally known as Women in Management   is a networking and mentoring organization for women.  Membership includes women from all professional areas including licensed professionals\, entrepreneurs (product or service)\, nonprofit\, corporate\, government and academics.  Breakfast meetings feature networking opportunities and educational speakers.
X-ALT-DESC;FMTTYPE=text/html:<span style="font-family:calibri\,sans-serif"><span style="font-size:11.0pt">Tenth in their interview series will be with Psychotherapist Linda Gullo author of Erasing Adversity and owner of Delight in Living\, Ltd.&nbsp\; Discussion will be centered on Linda&rsquo\;s own personal traumas that happened within her family in the early 1990&rsquo\;s and how she learned to recognize and embrace what was still available to help create happiness.&nbsp\;<br />\nWomen of McHenry County3 &ndash\; formally known as Women in Management &ndash\; is a networking and mentoring organization for women.&nbsp\; Membership includes women from all professional areas including licensed professionals\, entrepreneurs (product or service)\, nonprofit\, corporate\, government and academics.&nbsp\; Breakfast meetings feature networking opportunities and educational speakers.</span></span><br />\n&nbsp\;
LOCATION:31 North Banquets in McHenry
UID:e.138.5930
SEQUENCE:3
DTSTAMP:20260424T011359Z
URL:https://carygrovechamber-gz26-gzcms.preview.gochambermaster.com/events/details/wim3-women-in-mchenry-co-3rd-thursday-talks-05-21-2015-5930
END:VEVENT

END:VCALENDAR
