BEGIN:VCALENDAR
VERSION:2.0
PRODID:-//ChamberMaster//Event Calendar 2.0//EN
METHOD:PUBLISH
X-PUBLISHED-TTL:P3D
REFRESH-INTERVAL:P3D
CALSCALE:GREGORIAN
BEGIN:VEVENT
DTSTART:20131017T123000Z
DTEND:20131017T140000Z
X-MICROSOFT-CDO-ALLDAYEVENT:FALSE
SUMMARY:Women in Management Monthly Breakfast
DESCRIPTION:Join WIM as we hear from IL State Senator Pamela Althoff.  Pamela will share information on many of her passions including education\, health care\, funding for programs affecting families and more.
X-ALT-DESC;FMTTYPE=text/html:Join WIM as we hear from IL State Senator Pamela Althoff.&nbsp\; Pamela will share information on many of her passions including education\, health care\, funding for programs affecting families and more.
LOCATION:31 North Banquets\, 217 N Front St\, McHenry IL 60050
UID:e.138.4189
SEQUENCE:3
DTSTAMP:20260425T200133Z
URL:https://carygrovechamber-gz26-gzcms.preview.gochambermaster.com/events/details/women-in-management-monthly-breakfast-10-17-2013-4189
END:VEVENT

END:VCALENDAR
