BEGIN:VCALENDAR
VERSION:2.0
PRODID:-//ChamberMaster//Event Calendar 2.0//EN
METHOD:PUBLISH
X-PUBLISHED-TTL:P3D
REFRESH-INTERVAL:P3D
CALSCALE:GREGORIAN
BEGIN:VEVENT
DTSTART:20180419T163000Z
DTEND:20180419T183000Z
X-MICROSOFT-CDO-ALLDAYEVENT:FALSE
SUMMARY:WOMEN OF ACHIEVEMENT AWARD LUNCHEON
DESCRIPTION:WIM3 will be honoring member\, Nicole Bosshardt\, with the 2018 Women of Achievement & Charlotte Danstrom Award during a fabulous luncheon.  Keynote speaker for this event will be Kathleen Caldwell\, president of Caldwell Consulting Group and Founder of the Global WHEE Institute (Wealthy\, Healthy\, Energetic Edge). \n\n2018 EVENT SPONSORS: \n\nMOTOROLA MOBILITY\, THE CUTTING ROOM SALON\, STRELCHECK CHIROPRACTIC CLINIC\, AND SEASONS BY PEG
X-ALT-DESC;FMTTYPE=text/html:<p>WIM3 will be honoring member\,&nbsp\;<strong>Nicole Bosshardt</strong>\, with the 2018 Women of Achievement &amp\; Charlotte Danstrom Award during a fabulous luncheon.&nbsp\; Keynote speaker for this event will be Kathleen Caldwell\,&nbsp\;president of Caldwell Consulting Group and Founder of the Global WHEE Institute (Wealthy\, Healthy\, Energetic Edge).&nbsp\;</p>\n\n<h3><strong>2018 EVENT SPONSORS:&nbsp\;</strong></h3>\n\n<h3><strong>MOTOROLA MOBILITY\, THE CUTTING ROOM SALON\, STRELCHECK CHIROPRACTIC CLINIC\, AND SEASONS BY PEG</strong></h3>\n
LOCATION:Crystal Lake Country Club 721 Country Club Rd Crystal Lake\, IL
UID:e.138.7693
SEQUENCE:3
DTSTAMP:20260420T174259Z
URL:https://carygrovechamber-gz26-gzcms.preview.gochambermaster.com/events/details/women-of-achievement-award-luncheon-7693
END:VEVENT

END:VCALENDAR
