BEGIN:VCALENDAR
VERSION:2.0
PRODID:-//ChamberMaster//Event Calendar 2.0//EN
METHOD:PUBLISH
X-PUBLISHED-TTL:P3D
REFRESH-INTERVAL:P3D
CALSCALE:GREGORIAN
BEGIN:VEVENT
DTSTART:20190629T010000Z
DTEND:20190721T200000Z
X-MICROSOFT-CDO-ALLDAYEVENT:FALSE
SUMMARY:WSRep presents All Shook Up
DESCRIPTION:All Shook Up Created by Joe DiPietro Directed by Mark Mahallak JUNE 28 - AUG 4 A hip-swiveling\, lip-curling HIT! With its pre-Broadway "try-out" in Chicago\, All Shook Up took Broadway by storm in 2005. Set in small-town American in the 1950's\, as a guitar-slinging young man rides into town and changes everyone he meets. This jukebox musical is a modern take on Shakespeare's classic\, Twelfth Night that features the songs of Elvis Presley like you've never seen them before. Audiences will go crazy for this hip-swiveling\, lip-curling musical that'll have you jumpin' out of your seats with hits like "Heartbreak Hotel\," "Jailhouse Rock\," and "Don't be Cruel." Rating: PG Genre: Musical Theater Running Time: 90 minutes with a 15-minute intermission
X-ALT-DESC;FMTTYPE=text/html:All Shook Up Created by Joe DiPietro Directed by Mark Mahallak JUNE 28 - AUG 4 A hip-swiveling\, lip-curling HIT! With its pre-Broadway &ldquo\;try-out&rdquo\; in Chicago\, All Shook Up took Broadway by storm in 2005. Set in small-town American in the 1950&rsquo\;s\, as a guitar-slinging young man rides into town and changes everyone he meets. This jukebox musical is a modern take on Shakespeare&rsquo\;s classic\, Twelfth Night that features the songs of Elvis Presley like you&rsquo\;ve never seen them before. Audiences will go crazy for this hip-swiveling\, lip-curling musical that&#39\;ll have you jumpin&#39\; out of your seats with hits like &ldquo\;Heartbreak Hotel\,&rdquo\; &ldquo\;Jailhouse Rock\,&rdquo\; and &ldquo\;Don&rsquo\;t be Cruel.&rdquo\; Rating: PG Genre: Musical Theater Running Time: 90 minutes with a 15-minute intermission
LOCATION:Raue Center For The Arts 26 N. Williams Street Crystal Lake\, IL 60014
UID:e.138.7719
SEQUENCE:3
DTSTAMP:20260419T170657Z
URL:https://carygrovechamber-gz26-gzcms.preview.gochambermaster.com/events/details/wsrep-presents-all-shook-up-7719
END:VEVENT

END:VCALENDAR
